BEGIN:VCALENDAR
VERSION:2.0
PRODID:icalendar-ruby
CALSCALE:GREGORIAN
BEGIN:VEVENT
DTSTAMP:20260419T193240Z
UID:5f12f400-cf70-43aa-ba8b-556a1f2ccf98
DTSTART;VALUE=DATE:20200320
DESCRIPTION:Property ID# 475181\, Locatoin: Wellington Harcourts Auction Ro
 oms - Ground floor\, 54-56 Cambridge Terrace\, Wellington\, Time: 12:00PM
SUMMARY:Auction for 
END:VEVENT
END:VCALENDAR
