BEGIN:VCALENDAR
VERSION:2.0
PRODID:icalendar-ruby
CALSCALE:GREGORIAN
BEGIN:VEVENT
DTSTAMP:20260421T224339Z
UID:e4a480d9-c95c-4869-8be8-9d7209024953
DTSTART;VALUE=DATE:20200715
DESCRIPTION:Property ID# 483477\, Locatoin: Harcourts Khandallah - 6 Dekka 
 Street\, Khandallah (if not sold prior)\, Time: 12:00PM
SUMMARY:Auction for 
END:VEVENT
END:VCALENDAR
