BEGIN:VCALENDAR
VERSION:2.0
PRODID:icalendar-ruby
CALSCALE:GREGORIAN
BEGIN:VEVENT
DTSTAMP:20260421T200227Z
UID:28106337-add6-4f78-a498-a38a2860a2d5
DTSTART;VALUE=DATE:20200807
DESCRIPTION:Property ID# 485007\, Locatoin: Wellington Harcourts Auction Ro
 oms - Ground floor\, 54-56 Cambridge Terrace Te Aro Wellington\, Time: 12:
 00PM
SUMMARY:Auction for 
END:VEVENT
END:VCALENDAR
