BEGIN:VCALENDAR
VERSION:2.0
PRODID:icalendar-ruby
CALSCALE:GREGORIAN
BEGIN:VEVENT
DTSTAMP:20260419T192834Z
UID:d7bc3c8d-bd22-4187-af49-01249067ea8b
DTSTART;VALUE=DATE:20200918
DESCRIPTION:Property ID# 486457\, Locatoin: (If Not Sold Prior) 6 Dekka Str
 eet\, Khandallah\,  Wellington\, Time: 12:00PM
SUMMARY:Auction for 
END:VEVENT
END:VCALENDAR
