BEGIN:VCALENDAR
VERSION:2.0
PRODID:icalendar-ruby
CALSCALE:GREGORIAN
BEGIN:VEVENT
DTSTAMP:20260419T193050Z
UID:63816831-6b67-4855-b94e-09ec1425278d
DTSTART;VALUE=DATE:20201203
DESCRIPTION:Property ID# 494966\, Locatoin: (Not Selling Prior) Harcourts K
 handallah\, 6 Dekka Street\, Khandallah\, Time: 2:00PM
SUMMARY:Auction for 
END:VEVENT
END:VCALENDAR
