BEGIN:VCALENDAR
VERSION:2.0
PRODID:icalendar-ruby
CALSCALE:GREGORIAN
BEGIN:VEVENT
DTSTAMP:20260421T222913Z
UID:5b435d8c-37da-4279-9145-c5b5399819e1
DTSTART;VALUE=DATE:20201218
DESCRIPTION:Property ID# 496930\, Locatoin: Wellington Harcourts Auction Ro
 oms - Ground floor\, 54-56 Cambridge Terrace Te Aro Wellington\, Time: 12:
 00PM
SUMMARY:Auction for 
END:VEVENT
END:VCALENDAR
