BEGIN:VCALENDAR
VERSION:2.0
PRODID:icalendar-ruby
CALSCALE:GREGORIAN
BEGIN:VEVENT
DTSTAMP:20260419T193233Z
UID:e5c1a2f7-473a-4f81-8e1c-7751eb30db15
DTSTART;VALUE=DATE:20210302
DESCRIPTION:Property ID# 502024\, Locatoin: On site 59 Jubilee Road\, at 12
  noon.\, Time: 12:00PM
SUMMARY:Auction for 
END:VEVENT
END:VCALENDAR
