BEGIN:VCALENDAR
VERSION:2.0
PRODID:icalendar-ruby
CALSCALE:GREGORIAN
BEGIN:VEVENT
DTSTAMP:20260419T164520Z
UID:2e1c18e5-8f40-4457-b6fe-213b2c036469
DTSTART;VALUE=DATE:20210423
DESCRIPTION:Property ID# 506774\, Time: 12:00PM
SUMMARY:Auction for 
END:VEVENT
END:VCALENDAR
