BEGIN:VCALENDAR
VERSION:2.0
PRODID:icalendar-ruby
CALSCALE:GREGORIAN
BEGIN:VEVENT
DTSTAMP:20260421T222828Z
UID:f2e45f7c-4507-41c7-87f1-9161dc9d47b2
DTSTART;VALUE=DATE:20210512
DESCRIPTION:Property ID# 508220\, Locatoin: Harcourts Khandallah Office\, 6
  Dekka Street (No Prior Sale)\, Time: 4:00PM
SUMMARY:Auction for 
END:VEVENT
END:VCALENDAR
