BEGIN:VCALENDAR
VERSION:2.0
PRODID:icalendar-ruby
CALSCALE:GREGORIAN
BEGIN:VEVENT
DTSTAMP:20260419T193137Z
UID:9d465b24-7c00-4c5b-a042-a8261a8ffb22
DTSTART;VALUE=DATE:20210617
DESCRIPTION:Property ID# 511141\, Locatoin: Harcourts Khandallah\, 6 Dekka 
 Street\, Khandallah.\, Time: 2:00PM
SUMMARY:Auction for 
END:VEVENT
END:VCALENDAR
