BEGIN:VCALENDAR
VERSION:2.0
PRODID:icalendar-ruby
CALSCALE:GREGORIAN
BEGIN:VEVENT
DTSTAMP:20260422T033417Z
UID:548f248d-a50c-42bc-b6da-96a6808ce8ac
DTSTART;VALUE=DATE:20210728
DESCRIPTION:Property ID# 513853\, Locatoin: Harcourts Building - 11 King St
 reet - Upper Hutt\, Time: 3:00PM
SUMMARY:Auction for 
END:VEVENT
END:VCALENDAR
