BEGIN:VCALENDAR
VERSION:2.0
PRODID:icalendar-ruby
CALSCALE:GREGORIAN
BEGIN:VEVENT
DTSTAMP:20260419T192611Z
UID:76ca6599-9e4b-4dd3-b4c4-feffbd1304fd
DTSTART;VALUE=DATE:20210813
DESCRIPTION:Property ID# 514844\, Locatoin: Friday\, 12noon. Harcourts Auct
 ion Rooms 54-56 Cambridge Terrace. Te Aro\, Time: 12:00PM
SUMMARY:Auction for 
END:VEVENT
END:VCALENDAR
