BEGIN:VCALENDAR
VERSION:2.0
PRODID:icalendar-ruby
CALSCALE:GREGORIAN
BEGIN:VEVENT
DTSTAMP:20260419T192611Z
UID:b7364a7b-7691-439a-9d78-c4cd2570f14b
DTSTART;VALUE=DATE:20211008
DESCRIPTION:Property ID# 517431\, Locatoin: Friday 12 Noon\, Harcourts Auct
 ion Rooms 54-56 Cambridge Terrace. Te Aro\, Time: 12:00PM
SUMMARY:Auction for 
END:VEVENT
END:VCALENDAR
