BEGIN:VCALENDAR
VERSION:2.0
PRODID:icalendar-ruby
CALSCALE:GREGORIAN
BEGIN:VEVENT
DTSTAMP:20260422T010638Z
UID:fbead085-3392-40f0-8393-4bda13436875
DTSTART;VALUE=DATE:20211012
DESCRIPTION:Property ID# 517433\, Locatoin: Harcourts Wellington City Offic
 e (unless sold prior)\, Time: 12:00PM
SUMMARY:Auction for 
END:VEVENT
END:VCALENDAR
