BEGIN:VCALENDAR
VERSION:2.0
PRODID:icalendar-ruby
CALSCALE:GREGORIAN
BEGIN:VEVENT
DTSTAMP:20260422T011257Z
UID:20300d18-01f4-4663-8050-7eb86ca595d1
DTSTART;VALUE=DATE:20211029
DESCRIPTION:Property ID# 518199\, Locatoin: Harcourts Wellington City Offic
 e (unless sold prior)\, Time: 12:00PM
SUMMARY:Auction for 
END:VEVENT
END:VCALENDAR
