BEGIN:VCALENDAR
VERSION:2.0
PRODID:icalendar-ruby
CALSCALE:GREGORIAN
BEGIN:VEVENT
DTSTAMP:20260419T192834Z
UID:9c286e5d-b688-4537-8094-e477ef890fff
DTSTART;VALUE=DATE:20211112
DESCRIPTION:Property ID# 520449\, Locatoin: Friday 12 Noon\, Harcourts Auct
 ion Rooms 54-56 Cambridge Terrace. Te Aro\, Time: 12:00PM
SUMMARY:Auction for 
END:VEVENT
END:VCALENDAR
