BEGIN:VCALENDAR
VERSION:2.0
PRODID:icalendar-ruby
CALSCALE:GREGORIAN
BEGIN:VEVENT
DTSTAMP:20260423T095617Z
UID:1fe739a2-50b9-4349-aee6-bbe9ba6300d1
DTSTART;VALUE=DATE:20211217
DESCRIPTION:Property ID# 523407\, Locatoin: Friday 12 Noon\, Harcourts Auct
 ion Rooms 54-56 Cambridge Terrace. Te Aro\, Time: 12:00PM
SUMMARY:Auction for 
END:VEVENT
END:VCALENDAR
