BEGIN:VCALENDAR
VERSION:2.0
PRODID:icalendar-ruby
CALSCALE:GREGORIAN
BEGIN:VEVENT
DTSTAMP:20260419T193050Z
UID:61c3f39a-7b08-4d9f-9ab8-e355b35b1fa3
DTSTART;VALUE=DATE:20220204
DESCRIPTION:Property ID# 526549\, Locatoin: Friday 12 Noon\, Harcourts Auct
 ion Rooms 54-56 Cambridge Terrace. Te Aro\, Time: 12:00PM
SUMMARY:Auction for 
END:VEVENT
END:VCALENDAR
