BEGIN:VCALENDAR
VERSION:2.0
PRODID:icalendar-ruby
CALSCALE:GREGORIAN
BEGIN:VEVENT
DTSTAMP:20260422T010454Z
UID:6ca303e2-a729-49ee-9019-aae3bb1e390d
DTSTART;VALUE=DATE:20220225
DESCRIPTION:Property ID# 526772\, Locatoin: Harcourts Wellington City Offic
 e\, Time: 12:00PM
SUMMARY:Auction for 
END:VEVENT
END:VCALENDAR
