BEGIN:VCALENDAR
VERSION:2.0
PRODID:icalendar-ruby
CALSCALE:GREGORIAN
BEGIN:VEVENT
DTSTAMP:20260421T223323Z
UID:18e6f77a-7dba-46dc-ba1f-57b5ea76fa03
DTSTART;VALUE=DATE:20220318
DESCRIPTION:Property ID# 529185\, Locatoin: Harcourts Auction Rooms Welling
 ton\, Time: 12:00PM
SUMMARY:Auction for 
END:VEVENT
END:VCALENDAR
