BEGIN:VCALENDAR
VERSION:2.0
PRODID:icalendar-ruby
CALSCALE:GREGORIAN
BEGIN:VEVENT
DTSTAMP:20260421T223205Z
UID:6de89bfe-20a1-41c5-8a69-9a2b0b917446
DTSTART;VALUE=DATE:20220414
DESCRIPTION:Property ID# 531940\, Locatoin: Harcourts Khandallah\, Time: 1:
 00PM
SUMMARY:Auction for 
END:VEVENT
END:VCALENDAR
