BEGIN:VCALENDAR
VERSION:2.0
PRODID:icalendar-ruby
CALSCALE:GREGORIAN
BEGIN:VEVENT
DTSTAMP:20260419T193051Z
UID:e37e5e81-ddbe-40cf-b2eb-7b8caaa02e75
DTSTART;VALUE=DATE:20220513
DESCRIPTION:Property ID# 534845\, Locatoin: Friday 12 Noon\, Harcourts Auct
 ion Rooms 57 Vivian Street. Te Aro (Unless Sold Prior)\, Time: 12:00PM
SUMMARY:Auction for 
END:VEVENT
END:VCALENDAR
