BEGIN:VCALENDAR
VERSION:2.0
PRODID:icalendar-ruby
CALSCALE:GREGORIAN
BEGIN:VEVENT
DTSTAMP:20260422T010454Z
UID:ede73a89-b55d-47b8-8060-d2079f27aefb
DTSTART;VALUE=DATE:20221014
DESCRIPTION:Property ID# 543956\, Locatoin: Harcourts Wellington City Offic
 e\, Time: 12:00PM
SUMMARY:Auction for 
END:VEVENT
END:VCALENDAR
