BEGIN:VCALENDAR
VERSION:2.0
PRODID:icalendar-ruby
CALSCALE:GREGORIAN
BEGIN:VEVENT
DTSTAMP:20260419T192716Z
UID:cd9843c9-6fe8-4fc1-9019-01377bed8291
DTSTART;VALUE=DATE:20221216
DESCRIPTION:Property ID# 547533\, Locatoin: Harcourts Auction Rooms 57 Vivi
 an Street\, Te Aro\, Wellington City. (Unless Sold Prior)\, Time: 12:00PM
SUMMARY:Auction for 
END:VEVENT
END:VCALENDAR
