BEGIN:VCALENDAR
VERSION:2.0
PRODID:icalendar-ruby
CALSCALE:GREGORIAN
BEGIN:VEVENT
DTSTAMP:20260422T034505Z
UID:caaffa35-0aa0-49a4-a1c0-34aa26d8e9ab
DTSTART;VALUE=DATE:20221214
DESCRIPTION:Property ID# 548514\, Time: 12:00PM
SUMMARY:Auction for 
END:VEVENT
END:VCALENDAR
