BEGIN:VCALENDAR
VERSION:2.0
PRODID:icalendar-ruby
CALSCALE:GREGORIAN
BEGIN:VEVENT
DTSTAMP:20260422T010947Z
UID:14c0112d-28c7-4da6-b3ba-40b28a49c361
DTSTART;VALUE=DATE:20230621
DESCRIPTION:Property ID# 557526\, Locatoin: Harcourts Wellington City Offic
 e (Unless Sold Prior)\, Time: 4:00PM
SUMMARY:Auction for 
END:VEVENT
END:VCALENDAR
