BEGIN:VCALENDAR
VERSION:2.0
PRODID:icalendar-ruby
CALSCALE:GREGORIAN
BEGIN:VEVENT
DTSTAMP:20260422T033642Z
UID:e51b97f1-cd25-48d8-9f5a-49f23f332462
DTSTART;VALUE=DATE:20231101
DESCRIPTION:Property ID# 563583\, Locatoin: Harcourts Office  Lower Hutt\, 
 Time: 12:00PM
SUMMARY:Auction for 
END:VEVENT
END:VCALENDAR
