BEGIN:VCALENDAR
VERSION:2.0
PRODID:icalendar-ruby
CALSCALE:GREGORIAN
BEGIN:VEVENT
DTSTAMP:20260419T143104Z
UID:0dfe0555-5341-4571-b588-5122db227fc6
DTSTART;VALUE=DATE:20240228
DESCRIPTION:Property ID# 569650\, Locatoin: 8 Kent Terrace\, Wellington\, T
 ime: 12:00PM
SUMMARY:Auction for 
END:VEVENT
END:VCALENDAR
