BEGIN:VCALENDAR
VERSION:2.0
PRODID:icalendar-ruby
CALSCALE:GREGORIAN
BEGIN:VEVENT
DTSTAMP:20260421T085104Z
UID:0cbe6c9b-6cf7-4e45-a0e6-d836b29f1e8c
DTSTART;VALUE=DATE:20250604
DESCRIPTION:Property ID# 585165\, Locatoin: 8 Kent Terrace\, Wellington \, 
 Time: 1:00PM
SUMMARY:Auction for 
END:VEVENT
END:VCALENDAR
