BEGIN:VCALENDAR
VERSION:2.0
PRODID:icalendar-ruby
CALSCALE:GREGORIAN
BEGIN:VEVENT
DTSTAMP:20260421T085102Z
UID:0b746b88-b8f4-4a41-8ed6-89836ad2f5a0
DTSTART;VALUE=DATE:20250619
DESCRIPTION:Property ID# 593425\, Locatoin: Harcourts Tawa Realty Ltd\, 215
  Main Road\, Tawa\, Time: 4:00PM
SUMMARY:Auction for 
END:VEVENT
END:VCALENDAR
