BEGIN:VCALENDAR
VERSION:2.0
PRODID:icalendar-ruby
CALSCALE:GREGORIAN
BEGIN:VEVENT
DTSTAMP:20260420T153627Z
UID:f8617675-4ab1-4c96-aec8-e6342dd57042
DTSTART;VALUE=DATE:20251002
DESCRIPTION:Property ID# 596935\, Locatoin: 8 Kent Terrace\, Wellington\, T
 ime: 12:00PM
SUMMARY:Auction for 
END:VEVENT
END:VCALENDAR
