BEGIN:VCALENDAR
VERSION:2.0
PRODID:icalendar-ruby
CALSCALE:GREGORIAN
BEGIN:VEVENT
DTSTAMP:20260424T010900Z
UID:552c32d2-80c4-4903-81d8-26cd6efe228b
DTSTART;VALUE=DATE:20251023
DESCRIPTION:Property ID# 598275\, Locatoin: 8 Kent Terrace\, Wellington\, T
 ime: 12:00PM
SUMMARY:Auction for 
END:VEVENT
END:VCALENDAR
