BEGIN:VCALENDAR
VERSION:2.0
PRODID:icalendar-ruby
CALSCALE:GREGORIAN
BEGIN:VEVENT
DTSTAMP:20260424T010619Z
UID:194d440c-4559-42ab-8558-a4331e2264ba
DTSTART;VALUE=DATE:20260506
DESCRIPTION:Property ID# 606068\, Locatoin: 8 Kent Terrace\, Wellington \, 
 Time: 12:00PM
SUMMARY:Auction for 29A Southgate Road
END:VEVENT
END:VCALENDAR
