BEGIN:VCALENDAR
VERSION:2.0
PRODID:icalendar-ruby
CALSCALE:GREGORIAN
BEGIN:VEVENT
DTSTAMP:20260424T010641Z
UID:7f3a1ba7-21bf-4d50-94e5-43b2a455ac0e
DTSTART;TZID=Pacific/Auckland:20260426T140000
DTEND;TZID=Pacific/Auckland:20260426T143000
DESCRIPTION:Property ID# 605657
SUMMARY:Openhome for 15 Romney Square
END:VEVENT
END:VCALENDAR
