BEGIN:VCALENDAR
VERSION:2.0
PRODID:icalendar-ruby
CALSCALE:GREGORIAN
BEGIN:VEVENT
DTSTAMP:20260424T010513Z
UID:dcb6a380-88d5-4b1a-99ee-5adbe4f811cd
DTSTART;TZID=Pacific/Auckland:20260426T130000
DTEND;TZID=Pacific/Auckland:20260426T133000
DESCRIPTION:Property ID# 606068
SUMMARY:Openhome for 29A Southgate Road
END:VEVENT
END:VCALENDAR
